BEGIN:VCALENDAR
VERSION:2.0
PRODID:-//All American St. Louis Elks Lodge #9 - ECPv6.10.2//NONSGML v1.0//EN
CALSCALE:GREGORIAN
METHOD:PUBLISH
X-WR-CALNAME:All American St. Louis Elks Lodge #9
X-ORIGINAL-URL:https://old.elks9.org
X-WR-CALDESC:Events for All American St. Louis Elks Lodge #9
REFRESH-INTERVAL;VALUE=DURATION:PT1H
X-Robots-Tag:noindex
X-PUBLISHED-TTL:PT1H
BEGIN:VTIMEZONE
TZID:America/Chicago
BEGIN:DAYLIGHT
TZOFFSETFROM:-0600
TZOFFSETTO:-0500
TZNAME:CDT
DTSTART:20200308T080000
END:DAYLIGHT
BEGIN:STANDARD
TZOFFSETFROM:-0500
TZOFFSETTO:-0600
TZNAME:CST
DTSTART:20201101T070000
END:STANDARD
END:VTIMEZONE
BEGIN:VEVENT
DTSTART;TZID=America/Chicago:20201010T100000
DTEND;TZID=America/Chicago:20201010T123000
DTSTAMP:20260423T032612
CREATED:20200925T023549Z
LAST-MODIFIED:20200925T023549Z
UID:2659-1602324000-1602333000@old.elks9.org
SUMMARY:Pool Closure - Volunteers Needed (cover\, furniture\, etc.)
DESCRIPTION:
URL:https://old.elks9.org/event/pool-closure-volunteers-needed-cover-furniture-etc/
END:VEVENT
BEGIN:VEVENT
DTSTART;TZID=America/Chicago:20201010T120000
DTEND;TZID=America/Chicago:20201010T170000
DTSTAMP:20260423T032612
CREATED:20201007T203242Z
LAST-MODIFIED:20201007T203346Z
UID:2709-1602331200-1602349200@old.elks9.org
SUMMARY:Ellisville Elks Golf Tournament
DESCRIPTION:
URL:https://old.elks9.org/event/ellisville-elks-golf-tournament/
END:VEVENT
BEGIN:VEVENT
DTSTART;TZID=America/Chicago:20201010T170000
DTEND;TZID=America/Chicago:20201010T230000
DTSTAMP:20260423T032612
CREATED:20200909T003226Z
LAST-MODIFIED:20200916T220554Z
UID:2452-1602349200-1602370800@old.elks9.org
SUMMARY:Rental - Hall of America\, pending (Marks)
DESCRIPTION:
URL:https://old.elks9.org/event/hall-rental-pending-howery/
END:VEVENT
END:VCALENDAR