BEGIN:VCALENDAR
VERSION:2.0
PRODID:-//All American St. Louis Elks Lodge #9 - ECPv6.10.2//NONSGML v1.0//EN
CALSCALE:GREGORIAN
METHOD:PUBLISH
X-WR-CALNAME:All American St. Louis Elks Lodge #9
X-ORIGINAL-URL:https://old.elks9.org
X-WR-CALDESC:Events for All American St. Louis Elks Lodge #9
REFRESH-INTERVAL;VALUE=DURATION:PT1H
X-Robots-Tag:noindex
X-PUBLISHED-TTL:PT1H
BEGIN:VTIMEZONE
TZID:America/Chicago
BEGIN:DAYLIGHT
TZOFFSETFROM:-0600
TZOFFSETTO:-0500
TZNAME:CDT
DTSTART:20200308T080000
END:DAYLIGHT
BEGIN:STANDARD
TZOFFSETFROM:-0500
TZOFFSETTO:-0600
TZNAME:CST
DTSTART:20201101T070000
END:STANDARD
END:VTIMEZONE
BEGIN:VEVENT
DTSTART;TZID=America/Chicago:20200927T060000
DTEND;TZID=America/Chicago:20200927T110000
DTSTAMP:20260423T032609
CREATED:20200908T221758Z
LAST-MODIFIED:20200916T215614Z
UID:2424-1601186400-1601204400@old.elks9.org
SUMMARY:Pool Rental – Ykiki Divers
DESCRIPTION:
URL:https://old.elks9.org/event/pool-rental-ykiki-divers-17/
END:VEVENT
BEGIN:VEVENT
DTSTART;TZID=America/Chicago:20200927T110000
DTEND;TZID=America/Chicago:20200927T130000
DTSTAMP:20260423T032609
CREATED:20200909T002821Z
LAST-MODIFIED:20200916T215732Z
UID:2450-1601204400-1601211600@old.elks9.org
SUMMARY:St. Charles 690 - Mustang Show
DESCRIPTION:
URL:https://old.elks9.org/event/st-charles-690-mustang-show/
END:VEVENT
BEGIN:VEVENT
DTSTART;TZID=America/Chicago:20200927T110000
DTEND;TZID=America/Chicago:20200927T200000
DTSTAMP:20260423T032609
CREATED:20200910T200936Z
LAST-MODIFIED:20200925T023744Z
UID:2530-1601204400-1601236800@old.elks9.org
SUMMARY:Pool Hours (11-8) - discounted F&B
DESCRIPTION:
URL:https://old.elks9.org/event/pool-hours-11-8/
END:VEVENT
BEGIN:VEVENT
DTSTART;TZID=America/Chicago:20200927T140000
DTEND;TZID=America/Chicago:20200927T160000
DTSTAMP:20260423T032609
CREATED:20200827T052433Z
LAST-MODIFIED:20200916T215833Z
UID:2310-1601215200-1601222400@old.elks9.org
SUMMARY:Site Strategy - Open Forum "Charette"
DESCRIPTION:
URL:https://old.elks9.org/event/site-strategy-open-forum-charette/
END:VEVENT
END:VCALENDAR