BEGIN:VCALENDAR
VERSION:2.0
PRODID:-//All American St. Louis Elks Lodge #9 - ECPv6.10.2//NONSGML v1.0//EN
CALSCALE:GREGORIAN
METHOD:PUBLISH
X-WR-CALNAME:All American St. Louis Elks Lodge #9
X-ORIGINAL-URL:https://old.elks9.org
X-WR-CALDESC:Events for All American St. Louis Elks Lodge #9
REFRESH-INTERVAL;VALUE=DURATION:PT1H
X-Robots-Tag:noindex
X-PUBLISHED-TTL:PT1H
BEGIN:VTIMEZONE
TZID:America/Chicago
BEGIN:DAYLIGHT
TZOFFSETFROM:-0600
TZOFFSETTO:-0500
TZNAME:CDT
DTSTART:20200308T080000
END:DAYLIGHT
BEGIN:STANDARD
TZOFFSETFROM:-0500
TZOFFSETTO:-0600
TZNAME:CST
DTSTART:20201101T070000
END:STANDARD
END:VTIMEZONE
BEGIN:VEVENT
DTSTART;TZID=America/Chicago:20200918T160000
DTEND;TZID=America/Chicago:20200918T200000
DTSTAMP:20260423T045553
CREATED:20200910T203907Z
LAST-MODIFIED:20200916T214408Z
UID:2544-1600444800-1600459200@old.elks9.org
SUMMARY:Pool Hours (4-8)
DESCRIPTION:
URL:https://old.elks9.org/event/pool-hours-4-8-2/
END:VEVENT
BEGIN:VEVENT
DTSTART;TZID=America/Chicago:20200918T180000
DTEND;TZID=America/Chicago:20200918T200000
DTSTAMP:20260423T045553
CREATED:20200714T010925Z
LAST-MODIFIED:20200916T214434Z
UID:1185-1600452000-1600459200@old.elks9.org
SUMMARY:Steak Night - Hosted by Golf & Volleyball (cancelled)
DESCRIPTION:
URL:https://old.elks9.org/event/steak-night-special/
END:VEVENT
BEGIN:VEVENT
DTSTART;TZID=America/Chicago:20200918T180000
DTEND;TZID=America/Chicago:20200918T200000
DTSTAMP:20260423T045553
CREATED:20200902T221310Z
LAST-MODIFIED:20200916T214526Z
UID:2354-1600452000-1600459200@old.elks9.org
SUMMARY:State President Visit - Hall of America (private)
DESCRIPTION:
URL:https://old.elks9.org/event/state-president-visit-hall-of-america-private/
END:VEVENT
END:VCALENDAR