BEGIN:VCALENDAR
VERSION:2.0
PRODID:-//All American St. Louis Elks Lodge #9 - ECPv6.10.2//NONSGML v1.0//EN
CALSCALE:GREGORIAN
METHOD:PUBLISH
X-WR-CALNAME:All American St. Louis Elks Lodge #9
X-ORIGINAL-URL:https://old.elks9.org
X-WR-CALDESC:Events for All American St. Louis Elks Lodge #9
REFRESH-INTERVAL;VALUE=DURATION:PT1H
X-Robots-Tag:noindex
X-PUBLISHED-TTL:PT1H
BEGIN:VTIMEZONE
TZID:Atlantic/Azores
BEGIN:DAYLIGHT
TZOFFSETFROM:-0100
TZOFFSETTO:+0000
TZNAME:+00
DTSTART:20200329T010000
END:DAYLIGHT
BEGIN:STANDARD
TZOFFSETFROM:+0000
TZOFFSETTO:-0100
TZNAME:-01
DTSTART:20201025T010000
END:STANDARD
END:VTIMEZONE
BEGIN:VTIMEZONE
TZID:UTC
BEGIN:STANDARD
TZOFFSETFROM:+0000
TZOFFSETTO:+0000
TZNAME:UTC
DTSTART:20200101T000000
END:STANDARD
END:VTIMEZONE
BEGIN:VEVENT
DTSTART;TZID=Atlantic/Azores:20200905T060000
DTEND;TZID=Atlantic/Azores:20200905T110000
DTSTAMP:20260423T033243
CREATED:20200903T023435Z
LAST-MODIFIED:20200903T023845Z
UID:2379-1599285600-1599303600@old.elks9.org
SUMMARY:Pool Rental – Ykiki Divers
DESCRIPTION:
URL:https://old.elks9.org/event/pool-rental-ykiki-divers-11/
END:VEVENT
BEGIN:VEVENT
DTSTART;TZID=UTC:20200905T120000
DTEND;TZID=UTC:20200905T160000
DTSTAMP:20260423T033243
CREATED:20200714T002453Z
LAST-MODIFIED:20200821T195325Z
UID:1130-1599307200-1599321600@old.elks9.org
SUMMARY:Celebration of Life - Hall & Patios (Larry Niemann)
DESCRIPTION:Please sign up for one of the four available slots : https://www.signupgenius.com/go/30e0e44aeae23a1fc1-larry1
URL:https://old.elks9.org/event/celebration-of-life-hall-patios-ln/
END:VEVENT
BEGIN:VEVENT
DTSTART;TZID=UTC:20200905T130000
DTEND;TZID=UTC:20200905T160000
DTSTAMP:20260423T033243
CREATED:20200815T003437Z
LAST-MODIFIED:20200815T003437Z
UID:2266-1599310800-1599321600@old.elks9.org
SUMMARY:Poolside Free Hot Dogs and Ice Cream for Kids
DESCRIPTION:
URL:https://old.elks9.org/event/poolside-free-hot-dogs-and-ice-cream-for-kids/
END:VEVENT
END:VCALENDAR