BEGIN:VCALENDAR
VERSION:2.0
PRODID:-//All American St. Louis Elks Lodge #9 - ECPv6.10.2//NONSGML v1.0//EN
CALSCALE:GREGORIAN
METHOD:PUBLISH
X-ORIGINAL-URL:https://old.elks9.org
X-WR-CALDESC:Events for All American St. Louis Elks Lodge #9
REFRESH-INTERVAL;VALUE=DURATION:PT1H
X-Robots-Tag:noindex
X-PUBLISHED-TTL:PT1H
BEGIN:VTIMEZONE
TZID:UTC
BEGIN:STANDARD
TZOFFSETFROM:+0000
TZOFFSETTO:+0000
TZNAME:UTC
DTSTART:20200101T000000
END:STANDARD
END:VTIMEZONE
BEGIN:VEVENT
DTSTART;TZID=UTC:20200904T193000
DTEND;TZID=UTC:20200904T213000
DTSTAMP:20260423T033351
CREATED:20200815T003344Z
LAST-MODIFIED:20200815T003344Z
UID:2264-1599247800-1599255000@old.elks9.org
SUMMARY:Kids Movie Night
DESCRIPTION:
URL:https://old.elks9.org/event/kids-movie-night-2/
END:VEVENT
END:VCALENDAR