BEGIN:VCALENDAR
VERSION:2.0
PRODID:-//All American St. Louis Elks Lodge #9 - ECPv6.10.2//NONSGML v1.0//EN
CALSCALE:GREGORIAN
METHOD:PUBLISH
X-ORIGINAL-URL:https://old.elks9.org
X-WR-CALDESC:Events for All American St. Louis Elks Lodge #9
REFRESH-INTERVAL;VALUE=DURATION:PT1H
X-Robots-Tag:noindex
X-PUBLISHED-TTL:PT1H
BEGIN:VTIMEZONE
TZID:UTC
BEGIN:STANDARD
TZOFFSETFROM:+0000
TZOFFSETTO:+0000
TZNAME:UTC
DTSTART:20200101T000000
END:STANDARD
END:VTIMEZONE
BEGIN:VEVENT
DTSTART;TZID=UTC:20200902T183000
DTEND;TZID=UTC:20200902T193000
DTSTAMP:20260423T033606
CREATED:20200714T010048Z
LAST-MODIFIED:20200806T044530Z
UID:1165-1599071400-1599075000@old.elks9.org
SUMMARY:Golf Committee
DESCRIPTION:
URL:https://old.elks9.org/event/golf-committee-7/
END:VEVENT
BEGIN:VEVENT
DTSTART;TZID=UTC:20200902T183000
DTEND;TZID=UTC:20200902T193000
DTSTAMP:20260423T033606
CREATED:20200822T204345Z
LAST-MODIFIED:20200910T200524Z
UID:2330-1599071400-1599075000@old.elks9.org
SUMMARY:Pool Committee
DESCRIPTION:
URL:https://old.elks9.org/event/pool-committee-meeting-2/
END:VEVENT
END:VCALENDAR